BEGIN:VCALENDAR
VERSION:2.0
PRODID:-//Café – Restaurant  l&#039;Atypik à Grenoble            - ECPv6.15.13.1//NONSGML v1.0//EN
CALSCALE:GREGORIAN
METHOD:PUBLISH
X-WR-CALNAME:Café – Restaurant  l&#039;Atypik à Grenoble           
X-ORIGINAL-URL:http://www.atypik-grenoble.fr
X-WR-CALDESC:Évènements pour Café – Restaurant  l&#039;Atypik à Grenoble           
REFRESH-INTERVAL;VALUE=DURATION:PT1H
X-Robots-Tag:noindex
X-PUBLISHED-TTL:PT1H
BEGIN:VTIMEZONE
TZID:Europe/Paris
BEGIN:DAYLIGHT
TZOFFSETFROM:+0100
TZOFFSETTO:+0200
TZNAME:CEST
DTSTART:20230326T010000
END:DAYLIGHT
BEGIN:STANDARD
TZOFFSETFROM:+0200
TZOFFSETTO:+0100
TZNAME:CET
DTSTART:20231029T010000
END:STANDARD
BEGIN:DAYLIGHT
TZOFFSETFROM:+0100
TZOFFSETTO:+0200
TZNAME:CEST
DTSTART:20240331T010000
END:DAYLIGHT
BEGIN:STANDARD
TZOFFSETFROM:+0200
TZOFFSETTO:+0100
TZNAME:CET
DTSTART:20241027T010000
END:STANDARD
BEGIN:DAYLIGHT
TZOFFSETFROM:+0100
TZOFFSETTO:+0200
TZNAME:CEST
DTSTART:20250330T010000
END:DAYLIGHT
BEGIN:STANDARD
TZOFFSETFROM:+0200
TZOFFSETTO:+0100
TZNAME:CET
DTSTART:20251026T010000
END:STANDARD
END:VTIMEZONE
BEGIN:VEVENT
DTSTART;TZID=Europe/Paris:20240907T120000
DTEND;TZID=Europe/Paris:20240907T140000
DTSTAMP:20260422T061103
CREATED:20240808T093246Z
LAST-MODIFIED:20240905T084551Z
UID:164-1725710400-1725717600@www.atypik-grenoble.fr
SUMMARY:Le samedi 7 septembre\, le resto est à vous !
DESCRIPTION:  \nComme chaque premier samedi du mois\, le samedi 7 septembre\, \nCe samedi\, Muriel cuisine avec Pierre et prépareront  de délicieux filets de maquereaux\, à leur façon. \n  \nN’oubliez pas de réserver à l’avance en appelant le  09.67.33.12.94 \nPour plus d’information \, contactez-nous sans tarder !
URL:http://www.atypik-grenoble.fr/event/le-samedi-le-restau-est-a-vous/
LOCATION:restaurant l’Atypik\, 10 place Edmond Arnaud\, Grenoble\, 38000\, France
CATEGORIES:resto à vous
ATTACH;FMTTYPE=image/jpeg:http://www.atypik-grenoble.fr/wp-content/uploads/2024/09/le-restau-est-a-vous-7-septembre-2024.jpg
END:VEVENT
BEGIN:VEVENT
DTSTART;TZID=Europe/Paris:20240920T183000
DTEND;TZID=Europe/Paris:20240920T213000
DTSTAMP:20260422T061103
CREATED:20240917T165955Z
LAST-MODIFIED:20240919T155042Z
UID:304-1726857000-1726867800@www.atypik-grenoble.fr
SUMMARY:Présentation saison Sainte-Marie d'En Bas
DESCRIPTION:A cette occasion\, venez déguster la chorba et profiter des évènements du quartier \nNotre terrasse vous attend à partir de 18h. \n\n\n\n 
URL:http://www.atypik-grenoble.fr/event/presentation-saison-sainte-marie-den-bas/
LOCATION:restaurant l’Atypik\, 10 place Edmond Arnaud\, Grenoble\, 38000\, France
CATEGORIES:On participe
ATTACH;FMTTYPE=application/pdf:http://www.atypik-grenoble.fr/wp-content/uploads/2024/09/Carton-invitation-TSMB-1.pdf
END:VEVENT
BEGIN:VEVENT
DTSTART;TZID=Europe/Paris:20240921T120000
DTEND;TZID=Europe/Paris:20240921T150000
DTSTAMP:20260422T061103
CREATED:20240917T170839Z
LAST-MODIFIED:20240917T170839Z
UID:307-1726920000-1726930800@www.atypik-grenoble.fr
SUMMARY:EQUINOX MÈTIS  (16ème édition)
DESCRIPTION:50ème anniversaire de la révolution des œillets\nA cette occasion nous serons ouverts vendredi soir et samedi  à partir de midi. \nN’hésitez pas à venir.
URL:http://www.atypik-grenoble.fr/event/equinox-metis-16eme-edition/
CATEGORIES:On participe
ATTACH;FMTTYPE=image/png:http://www.atypik-grenoble.fr/wp-content/uploads/2024/09/Equinoxe-Metis-ODTI.png
END:VEVENT
END:VCALENDAR