BEGIN:VCALENDAR
VERSION:2.0
PRODID:-//Café – Restaurant  l&#039;Atypik à Grenoble            - ECPv6.15.13.1//NONSGML v1.0//EN
CALSCALE:GREGORIAN
METHOD:PUBLISH
X-ORIGINAL-URL:http://www.atypik-grenoble.fr
X-WR-CALDESC:Évènements pour Café – Restaurant  l&#039;Atypik à Grenoble           
REFRESH-INTERVAL;VALUE=DURATION:PT1H
X-Robots-Tag:noindex
X-PUBLISHED-TTL:PT1H
BEGIN:VTIMEZONE
TZID:Europe/Paris
BEGIN:DAYLIGHT
TZOFFSETFROM:+0100
TZOFFSETTO:+0200
TZNAME:CEST
DTSTART:20240331T010000
END:DAYLIGHT
BEGIN:STANDARD
TZOFFSETFROM:+0200
TZOFFSETTO:+0100
TZNAME:CET
DTSTART:20241027T010000
END:STANDARD
BEGIN:DAYLIGHT
TZOFFSETFROM:+0100
TZOFFSETTO:+0200
TZNAME:CEST
DTSTART:20250330T010000
END:DAYLIGHT
BEGIN:STANDARD
TZOFFSETFROM:+0200
TZOFFSETTO:+0100
TZNAME:CET
DTSTART:20251026T010000
END:STANDARD
BEGIN:DAYLIGHT
TZOFFSETFROM:+0100
TZOFFSETTO:+0200
TZNAME:CEST
DTSTART:20260329T010000
END:DAYLIGHT
BEGIN:STANDARD
TZOFFSETFROM:+0200
TZOFFSETTO:+0100
TZNAME:CET
DTSTART:20261025T010000
END:STANDARD
END:VTIMEZONE
BEGIN:VEVENT
DTSTART;TZID=Europe/Paris:20250402T140000
DTEND;TZID=Europe/Paris:20250402T170000
DTSTAMP:20260421T181127
CREATED:20250319T105943Z
LAST-MODIFIED:20250319T110751Z
UID:522-1743602400-1743613200@www.atypik-grenoble.fr
SUMMARY:Journée mondiale de sensibilisation à l’autisme
DESCRIPTION:À l’occasion de la journée mondiale de sensibilisation à l’Autisme\, le 2 avril\n2025\, les associations accompagnant les personnes avec TSA sur le\ndépartement souhaitent sensibiliser le public à l’autisme et promouvoir\nl’inclusion des personnes porteuses de ce trouble dans tous les aspects de la\nsociété. Ils mettront en lumière les défis auxquels sont confrontés les\npersonnes porteuses de Troubles du Spectre Autistique et les efforts déployés\npour améliorer leur qualité de vie et leur intégration sociale.
URL:http://www.atypik-grenoble.fr/event/journee-mondiale-de-sensibilisation-a-lautisme/
LOCATION:salle Lesdiguières à la Bastille de Grenoble.\, salle Lesdiguièresà la Bastille de Grenoble.\, Grenoble\, 38000\, France
ATTACH;FMTTYPE=image/png:http://www.atypik-grenoble.fr/wp-content/uploads/2025/03/1080x1080-02-JOURNEE-AUTISME-GRENOBLE.png
END:VEVENT
BEGIN:VEVENT
DTSTART;TZID=Europe/Paris:20250405T120000
DTEND;TZID=Europe/Paris:20250405T140000
DTSTAMP:20260421T181127
CREATED:20250402T212955Z
LAST-MODIFIED:20250402T213141Z
UID:568-1743854400-1743861600@www.atypik-grenoble.fr
SUMMARY:Le samedi 5 avril 2025 : Le resto est à vous
DESCRIPTION:Ce samedi 5 avril \, Pierre-Eric vous propose  et cuisine avec Élisa un curry de légumes de saison au lait de coco\, haché végétal\, accompagné d’un riz 3 couleurs de Camargue\nAu plaisir de vous retrouver autour de notre grande tablée conviviale !!\n\n\nPensez à réserver votre place de préférence par téléphone au \n09 67 33 12 94!\n 
URL:http://www.atypik-grenoble.fr/event/le-samedi-5-avril-2025-le-resto-est-a-vous/
END:VEVENT
BEGIN:VEVENT
DTSTART;TZID=Europe/Paris:20250415T180000
DTEND;TZID=Europe/Paris:20250415T200000
DTSTAMP:20260421T181127
CREATED:20250321T180926Z
LAST-MODIFIED:20250325T114221Z
UID:552-1744740000-1744747200@www.atypik-grenoble.fr
SUMMARY:Apéro Climat avec Élisa
DESCRIPTION:Apéros climat : s’informer\, s’amuser\, déguster !\nEt si on découvrait ensemble des solutions pour que notre \nalimentation soit bonne pour la santé\, pour la planète… \net pour notre portefeuille ?
URL:http://www.atypik-grenoble.fr/event/apero-climat-avec-elisa/
LOCATION:restaurant l’Atypik\, 10 place Edmond Arnaud\, Grenoble\, 38000\, France
ATTACH;FMTTYPE=image/png:http://www.atypik-grenoble.fr/wp-content/uploads/2025/03/apero-15-avril-logo-metro-ok.png
END:VEVENT
BEGIN:VEVENT
DTSTART;TZID=Europe/Paris:20250425T180000
DTEND;TZID=Europe/Paris:20250425T210000
DTSTAMP:20260421T181127
CREATED:20250423T175220Z
LAST-MODIFIED:20250423T180832Z
UID:574-1745604000-1745614800@www.atypik-grenoble.fr
SUMMARY:vernissage de l'exposition L'Atlas
DESCRIPTION:Nous sommes heureux de vous convier au Vernissage de l’exposition  « L’Atlas » de l’artiste   Carole Chabat
URL:http://www.atypik-grenoble.fr/event/vernissage-de-lexposition-latlas/
LOCATION:restaurant l’Atypik\, 10 place Edmond Arnaud\, Grenoble\, 38000\, France
CATEGORIES:On organise
ATTACH;FMTTYPE=image/png:http://www.atypik-grenoble.fr/wp-content/uploads/2025/04/Atlas-1.png
END:VEVENT
END:VCALENDAR