BEGIN:VCALENDAR
VERSION:2.0
PRODID:-//Café – Restaurant  l&#039;Atypik à Grenoble            - ECPv6.15.13.1//NONSGML v1.0//EN
CALSCALE:GREGORIAN
METHOD:PUBLISH
X-WR-CALNAME:Café – Restaurant  l&#039;Atypik à Grenoble           
X-ORIGINAL-URL:http://www.atypik-grenoble.fr
X-WR-CALDESC:Évènements pour Café – Restaurant  l&#039;Atypik à Grenoble           
REFRESH-INTERVAL;VALUE=DURATION:PT1H
X-Robots-Tag:noindex
X-PUBLISHED-TTL:PT1H
BEGIN:VTIMEZONE
TZID:Europe/Paris
BEGIN:DAYLIGHT
TZOFFSETFROM:+0100
TZOFFSETTO:+0200
TZNAME:CEST
DTSTART:20240331T010000
END:DAYLIGHT
BEGIN:STANDARD
TZOFFSETFROM:+0200
TZOFFSETTO:+0100
TZNAME:CET
DTSTART:20241027T010000
END:STANDARD
BEGIN:DAYLIGHT
TZOFFSETFROM:+0100
TZOFFSETTO:+0200
TZNAME:CEST
DTSTART:20250330T010000
END:DAYLIGHT
BEGIN:STANDARD
TZOFFSETFROM:+0200
TZOFFSETTO:+0100
TZNAME:CET
DTSTART:20251026T010000
END:STANDARD
BEGIN:DAYLIGHT
TZOFFSETFROM:+0100
TZOFFSETTO:+0200
TZNAME:CEST
DTSTART:20260329T010000
END:DAYLIGHT
BEGIN:STANDARD
TZOFFSETFROM:+0200
TZOFFSETTO:+0100
TZNAME:CET
DTSTART:20261025T010000
END:STANDARD
END:VTIMEZONE
BEGIN:VEVENT
DTSTART;TZID=Europe/Paris:20250503T120000
DTEND;TZID=Europe/Paris:20250503T140000
DTSTAMP:20260421T161620
CREATED:20250428T210632Z
LAST-MODIFIED:20250428T210632Z
UID:580-1746273600-1746280800@www.atypik-grenoble.fr
SUMMARY:Le samedi 3 mai2025 : Le resto est à vous
DESCRIPTION:Ce samedi 3 mai Mireille et Florence seront en cuisine avec Elisa pour vous concocter une assiette composée pleine de saveurs et de couleur\nA déguster à midi sur notre grande tablée conviviale en terrasse ! Pensez à réserver !\n \nSamoussas pomme de terre et champignons frais\, \naccompagnés d’une salade verte et crudités\n\nsuivi de la rencontre mensuelle des Cafés TSA\, accueil à partir de 14h30\, jusqu’à17h30
URL:http://www.atypik-grenoble.fr/event/le-samedi-3-mai2025-le-resto-est-a-vous/
LOCATION:restaurant l’Atypik\, 10 place Edmond Arnaud\, Grenoble\, 38000\, France
CATEGORIES:resto à vous
ATTACH;FMTTYPE=image/jpeg:http://www.atypik-grenoble.fr/wp-content/uploads/2025/04/Samoussas-pomme-de-terre-et-champignons-frais.jpg
END:VEVENT
END:VCALENDAR